BEGIN:VCALENDAR
VERSION:2.0
PRODID:-//wp-events-plugin.com//7.2.3.1//EN
TZID:Europe/Berlin
X-WR-TIMEZONE:Europe/Berlin
BEGIN:VEVENT
UID:4223@pulsleipzig.de
DTSTART;TZID=Europe/Berlin:20250308T210000
DTEND;TZID=Europe/Berlin:20250308T230000
DTSTAMP:20250227T072202Z
URL:https://pulsleipzig.de/events/amy-winehouse-party-felsenkeller/
SUMMARY:Amy Winehouse Party: Felsenkeller
DESCRIPTION:Feiere den internationalen Frauentag mit einer unvergesslichen 
 Amy Winehouse Party im Ballsaal des Felsenkellers! Eine fantastische Liveb
 and aus Amsterdam bringt die Hits der legendären Sängerin auf die Bühne
 \, während DJane Rudegirl Soundsystem für die besten Vibes sorgt. Sei da
 bei und erlebe die Magie von Amy Winehouse live!\n\nHier erfahrt ihr mehr.
ATTACH;FMTTYPE=image/jpeg:https://pulsleipzig.de/wp-content/uploads/2023/0
 3/Felsenkeller.jpg
CATEGORIES:Musik
END:VEVENT
BEGIN:VTIMEZONE
TZID:Europe/Berlin
X-LIC-LOCATION:Europe/Berlin
BEGIN:STANDARD
DTSTART:20241027T020000
TZOFFSETFROM:+0200
TZOFFSETTO:+0100
TZNAME:CET
END:STANDARD
END:VTIMEZONE
END:VCALENDAR