BEGIN:VCALENDAR
VERSION:2.0
PRODID:-//wp-events-plugin.com//7.2.3.1//EN
TZID:Europe/Berlin
X-WR-TIMEZONE:Europe/Berlin
BEGIN:VEVENT
UID:5556@pulsleipzig.de
DTSTART;TZID=Europe/Berlin:20250628T150000
DTEND;TZID=Europe/Berlin:20250628T200000
DTSTAMP:20250624T111953Z
URL:https://pulsleipzig.de/events/bachorgelfestival-2025-silbernes-jubilae
 um-die-bach-orgel-wird-25-thomaskirche/
SUMMARY:BachOrgelFestival 2025 - Silbernes Jubiläum: Die Bach-Orgel wird 2
 5!: Thomaskirche
DESCRIPTION:Beim Bach-Orgel-Festival Leipzig könnt ihr zwischen dem 28. Ju
 ni und 9. August 2025 renommierte Künstlerinnen und Künstler aus aller W
 elt live erleben. Taucht ein in die faszinierende Klangwelt von Bachs Meis
 terwerken – ein echtes Highlight für alle Freunde klassischer Orgelmusi
 k! Los geht’s am 28.6. zum Silbernen Jubiläum der Bach-Orgel mit Thomas
 organist Johannes Lang und ausgewählten Werken von Johann Sebastian Bach.
 \n\nHier erfahrt ihr mehr.
ATTACH;FMTTYPE=image/jpeg:https://pulsleipzig.de/wp-content/uploads/2021/0
 9/Thomaskirche-scaled-e1631008407359.jpg
CATEGORIES:Musik
LOCATION:https://maps.app.goo.gl/tTxCpkerPAZeJeQz9
END:VEVENT
BEGIN:VTIMEZONE
TZID:Europe/Berlin
X-LIC-LOCATION:Europe/Berlin
BEGIN:DAYLIGHT
DTSTART:20250330T030000
TZOFFSETFROM:+0100
TZOFFSETTO:+0200
TZNAME:CEST
END:DAYLIGHT
END:VTIMEZONE
END:VCALENDAR