BEGIN:VCALENDAR
VERSION:2.0
PRODID:-//wp-events-plugin.com//7.2.3.1//EN
TZID:Europe/Berlin
X-WR-TIMEZONE:Europe/Berlin
BEGIN:VEVENT
UID:3880@pulsleipzig.de
DTSTART;TZID=Europe/Berlin:20250222T110000
DTEND;TZID=Europe/Berlin:20250222T130000
DTSTAMP:20250310T162718Z
URL:https://pulsleipzig.de/events/barista-workshop-parea-22-2-2025/
SUMMARY:Barista-Workshop: PAREA
DESCRIPTION:Ihr wollt schon immer mal wissen\, wie ihr am besten an dem Sie
 bträger hantiert? Wie man Latte Art richtig macht und in den klassischen 
 Workflow an der Siebträgermaschine kommt? Dann ist der Barista-Workshop i
 m PAREA genau das Richtige für euch.\n\nHier erfährt ihr mehr.
ATTACH;FMTTYPE=image/jpeg:https://pulsleipzig.de/wp-content/uploads/2024/0
 8/Parea.jpg
CATEGORIES:Freizeit
END:VEVENT
BEGIN:VTIMEZONE
TZID:Europe/Berlin
X-LIC-LOCATION:Europe/Berlin
BEGIN:STANDARD
DTSTART:20241027T020000
TZOFFSETFROM:+0200
TZOFFSETTO:+0100
TZNAME:CET
END:STANDARD
END:VTIMEZONE
END:VCALENDAR