BEGIN:VCALENDAR
VERSION:2.0
PRODID:-//wp-events-plugin.com//7.2.3.1//EN
TZID:Europe/Berlin
X-WR-TIMEZONE:Europe/Berlin
BEGIN:VEVENT
UID:9428@pulsleipzig.de
DTSTART;TZID=Europe/Berlin:20260422T180000
DTEND;TZID=Europe/Berlin:20260422T194500
DTSTAMP:20260416T122717Z
URL:https://pulsleipzig.de/events/benaissa-lamroubal-karli-comedy-club/
SUMMARY:Benaissa Lamroubal: Karli Comedy Club
DESCRIPTION:Im Karli Comedy Club steht Benaissa Lamroubal auf der Bühne. S
 ein Humor verbindet Alltag\, Gesellschaft und persönliche Geschichten.\n 
 Ein Abend voller Charme\, Ironie und kluger Pointen.\n Perfekt für Comedy
 -Fans\, die Live-Shows lieben.\n Lachen garantiert.\n\nHier erfahrt ihr me
 hr.
ATTACH;FMTTYPE=image/jpeg:https://pulsleipzig.de/wp-content/uploads/2024/0
 4/Karli-Comedy.jpg
CATEGORIES:Kunst &amp; Kreatives
END:VEVENT
BEGIN:VTIMEZONE
TZID:Europe/Berlin
X-LIC-LOCATION:Europe/Berlin
BEGIN:DAYLIGHT
DTSTART:20260329T030000
TZOFFSETFROM:+0100
TZOFFSETTO:+0200
TZNAME:CEST
END:DAYLIGHT
END:VTIMEZONE
END:VCALENDAR