BEGIN:VCALENDAR
VERSION:2.0
PRODID:-//wp-events-plugin.com//7.2.3.1//EN
TZID:Europe/Berlin
X-WR-TIMEZONE:Europe/Berlin
BEGIN:VEVENT
UID:1873@pulsleipzig.de
DTSTART;TZID=Europe/Berlin:20240928T120000
DTEND;TZID=Europe/Berlin:20240928T170000
DTSTAMP:20240924T121152Z
URL:https://pulsleipzig.de/events/bike-stuff-flohmarkt-3/
SUMMARY:Bike Stuff Flohmarkt
DESCRIPTION:Der Bike Stuff Flohmarkt im Tapetenwerk wird vom Zwischenfisch 
 im Cafe &amp\; Galerie / Tapetenwerk veranstaltet. Hier liegt der Fokus vo
 r allem auf Fahrradzubehör &amp\; Gebrauchträder\, doch auch Secondhand 
 &amp\; Krimskrams könnt ihr hier erwerben.\n\nHier erfährst du mehr.
ATTACH;FMTTYPE=image/jpeg:https://pulsleipzig.de/wp-content/uploads/2024/0
 6/Zwischenfisch-Eingang.jpg
CATEGORIES:Freizeit
END:VEVENT
BEGIN:VTIMEZONE
TZID:Europe/Berlin
X-LIC-LOCATION:Europe/Berlin
BEGIN:DAYLIGHT
DTSTART:20240331T030000
TZOFFSETFROM:+0100
TZOFFSETTO:+0200
TZNAME:CEST
END:DAYLIGHT
END:VTIMEZONE
END:VCALENDAR