BEGIN:VCALENDAR
VERSION:2.0
PRODID:-//wp-events-plugin.com//7.2.3.1//EN
TZID:Europe/Berlin
X-WR-TIMEZONE:Europe/Berlin
BEGIN:VEVENT
UID:1430@pulsleipzig.de
DTSTART;TZID=Europe/Berlin:20240821T190000
DTEND;TZID=Europe/Berlin:20240821T210000
DTSTAMP:20240820T074648Z
URL:https://pulsleipzig.de/events/bsg-chemie-bfc-dynamo/
SUMMARY:BSG Chemie - BFC Dynamo
DESCRIPTION:Fußball Regionalliga im Alfred-Kunze-Sportpark. 19 Uhr ist Ans
 toß zur nächsten hart umkämpften Partie\, diesmal gegen den BFC Dynamo 
 Berlin.\n\nHier erfährst du mehr.
ATTACH;FMTTYPE=image/jpeg:https://pulsleipzig.de/wp-content/uploads/2024/0
 8/BSG-Chemie-Leipzig.jpg
CATEGORIES:Sport
END:VEVENT
BEGIN:VTIMEZONE
TZID:Europe/Berlin
X-LIC-LOCATION:Europe/Berlin
BEGIN:DAYLIGHT
DTSTART:20240331T030000
TZOFFSETFROM:+0100
TZOFFSETTO:+0200
TZNAME:CEST
END:DAYLIGHT
END:VTIMEZONE
END:VCALENDAR