BEGIN:VCALENDAR
VERSION:2.0
PRODID:-//wp-events-plugin.com//7.2.3.1//EN
TZID:Europe/Berlin
X-WR-TIMEZONE:Europe/Berlin
BEGIN:VEVENT
UID:7515@pulsleipzig.de
DTSTART;TZID=Europe/Berlin:20251129T140000
DTEND;TZID=Europe/Berlin:20251129T160000
DTSTAMP:20251028T152303Z
URL:https://pulsleipzig.de/events/bsg-chemie-leipzig-fsv-zwickau-alfred-ku
 nze-sportpark-29-11/
SUMMARY:BSG Chemie Leipzig - FSV Zwickau: Alfred-Kunze-Sportpark 29.11.
DESCRIPTION:Heimspielstimmung pur im Alfred Kunze Sportpark\, wenn Chemie d
 en FSV Zwickau empfängt. Ihr bringt grün weiße Stimmen mit und Leipzigs
  Fußballplatz bebt. Früh da sein lohnt sich.\n\nHier erfahrt ihr mehr.
ATTACH;FMTTYPE=image/jpeg:https://pulsleipzig.de/wp-content/uploads/2024/0
 8/BSG-Chemie-Leipzig.jpg
CATEGORIES:Sport
END:VEVENT
BEGIN:VTIMEZONE
TZID:Europe/Berlin
X-LIC-LOCATION:Europe/Berlin
BEGIN:STANDARD
DTSTART:20251026T020000
TZOFFSETFROM:+0200
TZOFFSETTO:+0100
TZNAME:CET
END:STANDARD
END:VTIMEZONE
END:VCALENDAR