BEGIN:VCALENDAR
VERSION:2.0
PRODID:-//wp-events-plugin.com//7.2.3.1//EN
TZID:Europe/Berlin
X-WR-TIMEZONE:Europe/Berlin
BEGIN:VEVENT
UID:4616@pulsleipzig.de
DTSTART;TZID=Europe/Berlin:20250329T140000
DTEND;TZID=Europe/Berlin:20250329T170000
DTSTAMP:20250327T172320Z
URL:https://pulsleipzig.de/events/buecherflohmarkt-kids-campus-2/
SUMMARY:Bücherflohmarkt: Kids Campus
DESCRIPTION:Von 14 bis 17 Uhr könnt ihr auf dem Bücherflohmarkt auf dem K
 ids Campus eure ausgelesenen Kinderbücher verkaufen oder neue Schätze en
 tdecken. Neben vielen tollen Büchern erwartet euch Spiel und Spaß auf de
 m Abenteuerspielplatz – dazu gibt’s leckere Snacks aus dem RegenwaldBi
 stro. Der Eingang für Besucher*innen erfolgt über das AbenteuerDorf in d
 er Borsdorfer Straße.\n\nHier erfahrt ihr mehr.
ATTACH;FMTTYPE=image/jpeg:https://pulsleipzig.de/wp-content/uploads/2025/0
 3/Kids-Campus-Buechermarkt.jpg
CATEGORIES:Freizeit
LOCATION:https://maps.app.goo.gl/xUoJHQ3V3GvW7qJM8
END:VEVENT
BEGIN:VTIMEZONE
TZID:Europe/Berlin
X-LIC-LOCATION:Europe/Berlin
BEGIN:STANDARD
DTSTART:20241027T020000
TZOFFSETFROM:+0200
TZOFFSETTO:+0100
TZNAME:CET
END:STANDARD
END:VTIMEZONE
END:VCALENDAR