BEGIN:VCALENDAR
VERSION:2.0
PRODID:-//wp-events-plugin.com//7.2.3.1//EN
TZID:Europe/Berlin
X-WR-TIMEZONE:Europe/Berlin
BEGIN:VEVENT
UID:8720@pulsleipzig.de
DTSTART;TZID=Europe/Berlin:20260207T200000
DTEND;TZID=Europe/Berlin:20260207T235900
DTSTAMP:20260206T094223Z
URL:https://pulsleipzig.de/events/catchy-crew-dankbar-7-2-2026/
SUMMARY:Catchy Crew: Dankbar
DESCRIPTION:Die Catchy-Crew übernimmt das Café Dankbar mit einer All-Nigh
 t-Pre-Party! Perfekt für alle\, die vor dem Club noch Bock auf gute Musik
  und Drinks haben. Kommt rein\, tanzt euch warm – Eintritt frei\, Vibes 
 garantiert.\n\nHier erfahrt ihr mehr.
ATTACH;FMTTYPE=image/jpeg:https://pulsleipzig.de/wp-content/uploads/2023/0
 5/Dankbar-Party-drinne.jpg
CATEGORIES:Musik
END:VEVENT
BEGIN:VTIMEZONE
TZID:Europe/Berlin
X-LIC-LOCATION:Europe/Berlin
BEGIN:STANDARD
DTSTART:20251026T020000
TZOFFSETFROM:+0200
TZOFFSETTO:+0100
TZNAME:CET
END:STANDARD
END:VTIMEZONE
END:VCALENDAR