BEGIN:VCALENDAR
VERSION:2.0
PRODID:-//wp-events-plugin.com//7.2.3.1//EN
TZID:Europe/Berlin
X-WR-TIMEZONE:Europe/Berlin
BEGIN:VEVENT
UID:4615@pulsleipzig.de
DTSTART;TZID=Europe/Berlin:20250330T110000
DTEND;TZID=Europe/Berlin:20250330T160000
DTSTAMP:20250327T070946Z
URL:https://pulsleipzig.de/events/connewitzer-kiezflohmarkt-in-connewitzer
 -hinterhoefen/
SUMMARY:Connewitzer Kiezflohmarkt in Connewitzer Hinterhöfen
DESCRIPTION:Am Sonntag verwandelt sich Connewitz in ein Paradies für Flohm
 arkt-Liebhaber: Von 11 bis 16 Uhr öffnen zahlreiche Hinterhöfe ihre Tore
  und laden zum Stöbern ein. Ob Vintage-Kleidung\, Bücher oder Raritäten
  – hier findet jeder seinen persönlichen Schatz.​\n\nHier erfahrt ihr
  mehr.
ATTACH;FMTTYPE=image/jpeg:https://pulsleipzig.de/wp-content/uploads/2024/0
 8/Kleidertauschparty-Stadtgarten-Connewitz.jpg
CATEGORIES:Freizeit
LOCATION:https://maps.app.goo.gl/2aHQUvqtzLMD95KU7
END:VEVENT
BEGIN:VTIMEZONE
TZID:Europe/Berlin
X-LIC-LOCATION:Europe/Berlin
BEGIN:DAYLIGHT
DTSTART:20250330T030000
TZOFFSETFROM:+0100
TZOFFSETTO:+0200
TZNAME:CEST
END:DAYLIGHT
END:VTIMEZONE
END:VCALENDAR