BEGIN:VCALENDAR
VERSION:2.0
PRODID:-//wp-events-plugin.com//7.2.3.1//EN
TZID:Europe/Berlin
X-WR-TIMEZONE:Europe/Berlin
BEGIN:VEVENT
UID:9443@pulsleipzig.de
DTSTART;TZID=Europe/Berlin:20260423T180000
DTEND;TZID=Europe/Berlin:20260423T200000
DTSTAMP:20260418T114702Z
URL:https://pulsleipzig.de/events/create-your-bag-charm-flamingocat/
SUMMARY:Create your Bag Charm: Flamingocat
DESCRIPTION:Im Flamingocat gestaltest du deinen persönlichen Bag Charm.\n 
 Der DIY-Workshop greift den Accessoire-Trend kreativ auf.\n Perfekt für a
 lle\, die Individualität lieben.\n Gestalten\, basteln und neue Leute ken
 nenlernen.\n Ein kreativer Abend voller DIY-Vibes.\n\nHier erfahrt ihr meh
 r.
ATTACH;FMTTYPE=image/jpeg:https://pulsleipzig.de/wp-content/uploads/2026/0
 4/Flamingocat-Bag-Charm-Workshop.jpg
CATEGORIES:Kunst &amp; Kreatives
LOCATION:https://maps.app.goo.gl/9V5ExekpyujpikTj6
END:VEVENT
BEGIN:VTIMEZONE
TZID:Europe/Berlin
X-LIC-LOCATION:Europe/Berlin
BEGIN:DAYLIGHT
DTSTART:20260329T030000
TZOFFSETFROM:+0100
TZOFFSETTO:+0200
TZNAME:CEST
END:DAYLIGHT
END:VTIMEZONE
END:VCALENDAR