BEGIN:VCALENDAR
VERSION:2.0
PRODID:-//wp-events-plugin.com//7.2.3.1//EN
TZID:Europe/Berlin
X-WR-TIMEZONE:Europe/Berlin
BEGIN:VEVENT
UID:426@pulsleipzig.de
DTSTART;TZID=Europe/Berlin:20240202T230000
DTEND;TZID=Europe/Berlin:20240202T235900
DTSTAMP:20240225T081952Z
URL:https://pulsleipzig.de/events/dirty-dance-2-0-techno/
SUMMARY:Dirty Dance 2.0 - Techno
DESCRIPTION:Dirty Dance geht in die nächste Runde. Zu besten Technobeats v
 on drei verschiedenen Künstler*innen könnt ihr im OSKARs schwungvoll ins
  Wochenende tanzen. Für noch bessere Stimmung werden euch eine Reihe von 
 Drag Queens zu Beginn ordentlich anheizen\, also packt am besten die guten
  Tanzschuhe ein. Einlass ist ab 23 Uhr\, mit einer Nachricht an die Verans
 talter:innen oder Artists sichert ihr euch einen Platz auf der Gästeliste
 .
ATTACH;FMTTYPE=image/jpeg:https://pulsleipzig.de/wp-content/uploads/2022/0
 9/Oskar.jpg
CATEGORIES:Musik
END:VEVENT
BEGIN:VTIMEZONE
TZID:Europe/Berlin
X-LIC-LOCATION:Europe/Berlin
BEGIN:STANDARD
DTSTART:20231029T020000
TZOFFSETFROM:+0200
TZOFFSETTO:+0100
TZNAME:CET
END:STANDARD
END:VTIMEZONE
END:VCALENDAR