BEGIN:VCALENDAR
VERSION:2.0
PRODID:-//wp-events-plugin.com//7.2.3.1//EN
TZID:Europe/Berlin
X-WR-TIMEZONE:Europe/Berlin
BEGIN:VEVENT
UID:8772@pulsleipzig.de
DTSTART;TZID=Europe/Berlin:20260219T200000
DTEND;TZID=Europe/Berlin:20260219T220000
DTSTAMP:20260218T142005Z
URL:https://pulsleipzig.de/events/exquizit-das-comedy-kneipen-quiz-phat-ca
 t-comedy-club-2/
SUMMARY:ExQUIZit - Das Comedy Kneipen Quiz: Phat Cat Comedy Club
DESCRIPTION:ExQUIZit bringt Comedy und Kneipenquiz in perfekter Mischung zu
 sammen. Euch erwartet ein Abend voller schräger Fragen\, unnützem Wissen
  und viel Humor. Mit Daniel und Drag-Queen Titanic Donavon sorgen zwei Hos
 ts für Glamour\, Witz und überraschende Fakten. Spielt im Team\, lacht g
 emeinsam und kämpft um den Sieg. Dazu gibt’s Drinks\, Preise und beste 
 Clubatmosphäre. Perfekt für Quizfans\, Comedy-Liebhaber*innen und Freund
 esgruppen.\n\nHier erfahrt ihr mehr.
ATTACH;FMTTYPE=image/jpeg:https://pulsleipzig.de/wp-content/uploads/2024/1
 0/Phat-Cat-Comedy-Herr-Kauzig.jpg
CATEGORIES:Kunst &amp; Kreatives
END:VEVENT
BEGIN:VTIMEZONE
TZID:Europe/Berlin
X-LIC-LOCATION:Europe/Berlin
BEGIN:STANDARD
DTSTART:20251026T020000
TZOFFSETFROM:+0200
TZOFFSETTO:+0100
TZNAME:CET
END:STANDARD
END:VTIMEZONE
END:VCALENDAR