BEGIN:VCALENDAR
VERSION:2.0
PRODID:-//wp-events-plugin.com//7.2.3.1//EN
TZID:Europe/Berlin
X-WR-TIMEZONE:Europe/Berlin
BEGIN:VEVENT
UID:9397@pulsleipzig.de
DTSTART;TZID=Europe/Berlin:20260418T230000
DTEND;TZID=Europe/Berlin:20260418T235900
DTSTAMP:20260413T193231Z
URL:https://pulsleipzig.de/events/female-pop-night-ilses-erika-18-4-2026/
SUMMARY:Female Pop Night: Ilses Erika
DESCRIPTION:Die Female Pop Night stellt Künstlerinnen in den Mittelpunkt. 
 In Ilses Erika wird zu Pop-Hits von Frauen getanzt. Aktuelle Songs treffen
  auf Klassiker. Der Abend steht für Empowerment und gute Stimmung. Offen 
 und inklusiv. Popmusik mit Fokus.\n\nHier erfahrt ihr mehr.
ATTACH;FMTTYPE=image/jpeg:https://pulsleipzig.de/wp-content/uploads/2022/0
 9/Ilses-Erika-Bar.jpg
CATEGORIES:Musik
END:VEVENT
BEGIN:VTIMEZONE
TZID:Europe/Berlin
X-LIC-LOCATION:Europe/Berlin
BEGIN:DAYLIGHT
DTSTART:20260329T030000
TZOFFSETFROM:+0100
TZOFFSETTO:+0200
TZNAME:CEST
END:DAYLIGHT
END:VTIMEZONE
END:VCALENDAR