BEGIN:VCALENDAR
VERSION:2.0
PRODID:-//wp-events-plugin.com//7.2.3.1//EN
TZID:Europe/Berlin
X-WR-TIMEZONE:Europe/Berlin
BEGIN:VEVENT
UID:3705@pulsleipzig.de
DTSTART;TZID=Europe/Berlin:20250202T120000
DTEND;TZID=Europe/Berlin:20250202T200000
DTSTAMP:20250124T202506Z
URL:https://pulsleipzig.de/events/flohmarkt-beyerhaus-2-2-2025/
SUMMARY:Flohmarkt Beyerhaus
DESCRIPTION:Im Beyerhaus findet wieder der beliebte Flohmarkt statt. Genie
 ßt die Atmosphäre\, Getränke und warme Speisen und natürlich auch säm
 tliche Kleinigkeiten. Außerdem gibt es auch vieles aus den Bereichen Schm
 uck\, Klamotten\, Bücher\, Deko und etliches!\n\n\nHier erfährst du mehr
 .
ATTACH;FMTTYPE=image/jpeg:https://pulsleipzig.de/wp-content/uploads/2022/0
 9/Beyerhaus-Drinne.jpg
CATEGORIES:Freizeit
END:VEVENT
BEGIN:VTIMEZONE
TZID:Europe/Berlin
X-LIC-LOCATION:Europe/Berlin
BEGIN:STANDARD
DTSTART:20241027T020000
TZOFFSETFROM:+0200
TZOFFSETTO:+0100
TZNAME:CET
END:STANDARD
END:VTIMEZONE
END:VCALENDAR