BEGIN:VCALENDAR
VERSION:2.0
PRODID:-//wp-events-plugin.com//7.2.3.1//EN
TZID:Europe/Berlin
X-WR-TIMEZONE:Europe/Berlin
BEGIN:VEVENT
UID:9180@pulsleipzig.de
DTSTART;TZID=Europe/Berlin:20260329T120000
DTEND;TZID=Europe/Berlin:20260329T180000
DTSTAMP:20260325T162636Z
URL:https://pulsleipzig.de/events/flohmarkt-drei-der-muenze-29-3-2026/
SUMMARY:Flohmarkt: Drei der Münze
DESCRIPTION:Vintage-Liebe und Schnäppchenjagd: Beim Flohmarkt im Drei der 
 Münze wird von 12 bis 18 Uhr gestöbert\, getrödelt und geschwärmt. Zwi
 schen Retro-Schätzen\, DIY-Kunst &amp\; cooler Musik findet ihr hier alle
 s – nur keine Langeweile.\n\nHier erfahrt ihr mehr.
ATTACH;FMTTYPE=image/jpeg:https://pulsleipzig.de/wp-content/uploads/2024/0
 7/Drei-der-Muenze-Innenhof-Freisitz-e1720433944328.jpg
CATEGORIES:Freizeit
END:VEVENT
BEGIN:VTIMEZONE
TZID:Europe/Berlin
X-LIC-LOCATION:Europe/Berlin
BEGIN:DAYLIGHT
DTSTART:20260329T030000
TZOFFSETFROM:+0100
TZOFFSETTO:+0200
TZNAME:CEST
END:DAYLIGHT
END:VTIMEZONE
END:VCALENDAR