BEGIN:VCALENDAR
VERSION:2.0
PRODID:-//wp-events-plugin.com//7.2.3.1//EN
TZID:Europe/Berlin
X-WR-TIMEZONE:Europe/Berlin
BEGIN:VEVENT
UID:4434@pulsleipzig.de
DTSTART;TZID=Europe/Berlin:20250426T100000
DTEND;TZID=Europe/Berlin:20250426T170000
DTSTAMP:20250424T061130Z
URL:https://pulsleipzig.de/events/flohmarkt-gutshof-stoetteritz-26-4-2025/
SUMMARY:Flohmarkt: Gutshof Stötteritz
DESCRIPTION:Auf dem Gutshof Stötteritz findet von 10-17 Uhr der hauseigene
  Flohmarkt statt. In der Kabine gibt es Speis und Trank und für die Klein
 sten gibt es Kinderschminken.\n\nHier erfährt ihr mehr.
ATTACH;FMTTYPE=image/jpeg:https://pulsleipzig.de/wp-content/uploads/2024/0
 6/Flohmarkt-Suedbrause.jpg
CATEGORIES:Freizeit
LOCATION:https://maps.app.goo.gl/YXZgc3ZKayL3FDjQA
END:VEVENT
BEGIN:VTIMEZONE
TZID:Europe/Berlin
X-LIC-LOCATION:Europe/Berlin
BEGIN:DAYLIGHT
DTSTART:20250330T030000
TZOFFSETFROM:+0100
TZOFFSETTO:+0200
TZNAME:CEST
END:DAYLIGHT
END:VTIMEZONE
END:VCALENDAR