BEGIN:VCALENDAR
VERSION:2.0
PRODID:-//wp-events-plugin.com//7.2.3.1//EN
TZID:Europe/Berlin
X-WR-TIMEZONE:Europe/Berlin
BEGIN:VEVENT
UID:9165@pulsleipzig.de
DTSTART;TZID=Europe/Berlin:20260321T090000
DTEND;TZID=Europe/Berlin:20260321T150000
DTSTAMP:20260320T125017Z
URL:https://pulsleipzig.de/events/flohmarkt-vereinsheim-haus-sonnenschein-
 ploesitz/
SUMMARY:Flohmarkt: Vereinsheim “Haus Sonnenschein” Plösitz
DESCRIPTION:Im Vereinsheim Haus Sonnenschein Plösitz startet der erste Flo
 hmarkt des Jahres. Ab 9 Uhr lädt die Veranstaltung zum Stöbern\, Entdeck
 en und Verweilen ein.\n\nZwischen Trödel\, Alltagsgegenständen und klein
 en Fundstücken entsteht eine entspannte Marktatmosphäre. Für das leibli
 che Wohl ist mit Speisen und Getränken gesorgt.\n\nAuch eigene Stände si
 nd möglich – eine Anmeldung im Vorfeld wird empfohlen.\n\nHier erfahrt 
 ihr mehr.
ATTACH;FMTTYPE=image/jpeg:https://pulsleipzig.de/wp-content/uploads/2026/0
 3/Flohmarkt-Vereinsheim-Haus-Sonnenschein-Ploesitz.jpeg
CATEGORIES:Freizeit
LOCATION:https://maps.app.goo.gl/kwoUWdte8PxT4qTB7
END:VEVENT
BEGIN:VTIMEZONE
TZID:Europe/Berlin
X-LIC-LOCATION:Europe/Berlin
BEGIN:STANDARD
DTSTART:20251026T020000
TZOFFSETFROM:+0200
TZOFFSETTO:+0100
TZNAME:CET
END:STANDARD
END:VTIMEZONE
END:VCALENDAR