BEGIN:VCALENDAR
VERSION:2.0
PRODID:-//wp-events-plugin.com//7.2.3.1//EN
TZID:Europe/Berlin
X-WR-TIMEZONE:Europe/Berlin
BEGIN:VEVENT
UID:8884@pulsleipzig.de
DTSTART;TZID=Europe/Berlin:20260305T200000
DTEND;TZID=Europe/Berlin:20260305T220000
DTSTAMP:20260301T091438Z
URL:https://pulsleipzig.de/events/fools-garden-kupfersaal/
SUMMARY:Fools Garden: Kupfersaal
DESCRIPTION:Fools Garden stehen für eingängigen Pop-Rock und internationa
 le Hits. Im Kupfersaal erwartet euch ein Abend voller Melodien und nostalg
 ischer Momente. Die Band verbindet Ohrwürmer mit charmanter Bühnenpräse
 nz. Ein Konzert für Fans zeitloser Popmusik.\n\nHier erfahrt ihr mehr.
ATTACH;FMTTYPE=image/jpeg:https://pulsleipzig.de/wp-content/uploads/2025/0
 4/Kupfersaal.jpg
CATEGORIES:Musik
END:VEVENT
BEGIN:VTIMEZONE
TZID:Europe/Berlin
X-LIC-LOCATION:Europe/Berlin
BEGIN:STANDARD
DTSTART:20251026T020000
TZOFFSETFROM:+0200
TZOFFSETTO:+0100
TZNAME:CET
END:STANDARD
END:VTIMEZONE
END:VCALENDAR