BEGIN:VCALENDAR
VERSION:2.0
PRODID:-//wp-events-plugin.com//7.2.3.1//EN
TZID:Europe/Berlin
X-WR-TIMEZONE:Europe/Berlin
BEGIN:VEVENT
UID:7428@pulsleipzig.de
DTSTART;TZID=Europe/Berlin:20251127T200000
DTEND;TZID=Europe/Berlin:20251127T220000
DTSTAMP:20251019T073100Z
URL:https://pulsleipzig.de/events/forever-die-beste-show-ueber-den-king-of
 -pop-gewandhaus/
SUMMARY:Forever - Die beste Show über den King of Pop: Gewandhaus
DESCRIPTION:Im Gewandhaus Leipzig feiert FOREVER die Musik von Michael Jack
 son mit Tribute Show und Liveband. Der Große Saal wird zum Pop Theater\, 
 ihr erlebt präzise Choreografien und Hymnen\, die ganze Generationen begl
 eiten. Eine opulente Produktion für alle\, die große Popmomente lieben.\
 n\nHier erfahrt ihr mehr.
ATTACH;FMTTYPE=image/jpeg:https://pulsleipzig.de/wp-content/uploads/2023/0
 3/Gewandhaus-Abend-Springbronnen.jpg
CATEGORIES:Musik
END:VEVENT
BEGIN:VTIMEZONE
TZID:Europe/Berlin
X-LIC-LOCATION:Europe/Berlin
BEGIN:STANDARD
DTSTART:20251026T020000
TZOFFSETFROM:+0200
TZOFFSETTO:+0100
TZNAME:CET
END:STANDARD
END:VTIMEZONE
END:VCALENDAR