BEGIN:VCALENDAR
VERSION:2.0
PRODID:-//wp-events-plugin.com//7.2.3.1//EN
TZID:Europe/Berlin
X-WR-TIMEZONE:Europe/Berlin
BEGIN:VEVENT
UID:8881@pulsleipzig.de
DTSTART;TZID=Europe/Berlin:20260305T190000
DTEND;TZID=Europe/Berlin:20260305T210000
DTSTAMP:20260301T091005Z
URL:https://pulsleipzig.de/events/he-ro-werk-2-2/
SUMMARY:HE/RO: Werk 2
DESCRIPTION:HE/RO stehen für modernen Pop mit eingängigen Hooks und energ
 iegeladenem Live-Feeling. Im Werk 2 erwartet euch ein Konzert zwischen Gef
 ühl und tanzbaren Beats. Die Band begeistert mit authentischen Texten und
  starker Bühnenpräsenz. Ein Abend für Fans zeitgemäßer Popmusik.\n\nH
 ier erfahrt ihr mehr.
ATTACH;FMTTYPE=image/jpeg:https://pulsleipzig.de/wp-content/uploads/2022/0
 9/Werk-2-Innenhof.jpg
CATEGORIES:Musik
END:VEVENT
BEGIN:VTIMEZONE
TZID:Europe/Berlin
X-LIC-LOCATION:Europe/Berlin
BEGIN:STANDARD
DTSTART:20251026T020000
TZOFFSETFROM:+0200
TZOFFSETTO:+0100
TZNAME:CET
END:STANDARD
END:VTIMEZONE
END:VCALENDAR