BEGIN:VCALENDAR
VERSION:2.0
PRODID:-//wp-events-plugin.com//7.2.3.1//EN
TZID:Europe/Berlin
X-WR-TIMEZONE:Europe/Berlin
BEGIN:VEVENT
UID:3342@pulsleipzig.de
DTSTART;TZID=Europe/Berlin:20250121T200000
DTEND;TZID=Europe/Berlin:20250121T220000
DTSTAMP:20250107T100828Z
URL:https://pulsleipzig.de/events/heaven-17-taeubchenthal/
SUMMARY:Heaven 17: Täubchenthal
DESCRIPTION:Sie sind bis heute das Beste\, was der britische Synth Pop zu b
 ieten hat. Heaven 17 kommt für ein Konzert in das Täubchenthal und liefe
 rt euch ein unvergessliches Konzert.\n\nHier erfährst du mehr.
ATTACH;FMTTYPE=image/jpeg:https://pulsleipzig.de/wp-content/uploads/2024/1
 0/Taeubchenthal-Konzert.jpg
CATEGORIES:Musik
END:VEVENT
BEGIN:VTIMEZONE
TZID:Europe/Berlin
X-LIC-LOCATION:Europe/Berlin
BEGIN:STANDARD
DTSTART:20241027T020000
TZOFFSETFROM:+0200
TZOFFSETTO:+0100
TZNAME:CET
END:STANDARD
END:VTIMEZONE
END:VCALENDAR