BEGIN:VCALENDAR
VERSION:2.0
PRODID:-//wp-events-plugin.com//7.2.3.1//EN
TZID:Europe/Berlin
X-WR-TIMEZONE:Europe/Berlin
BEGIN:VEVENT
UID:2059@pulsleipzig.de
DTSTART;TZID=Europe/Berlin:20241013T110000
DTEND;TZID=Europe/Berlin:20241013T160000
DTSTAMP:20241010T073437Z
URL:https://pulsleipzig.de/events/hosenscheisser-flohmarkt-2/
SUMMARY:Hosenscheißer-Flohmarkt
DESCRIPTION:Beim Hosenscheisser Flohmarkt auf dem Agra Messepark richtet si
 ch alles nach den Kleinsten unter uns. Von 11-16 Uhr könnt ihr alles rund
  um das Thema Kind und Baby ertrödeln.\n\nHier erfährst du mehr.
ATTACH;FMTTYPE=image/jpeg:https://pulsleipzig.de/wp-content/uploads/2023/0
 8/Agra-Antikmarkt-Kleider.jpg
CATEGORIES:Freizeit
END:VEVENT
BEGIN:VTIMEZONE
TZID:Europe/Berlin
X-LIC-LOCATION:Europe/Berlin
BEGIN:DAYLIGHT
DTSTART:20240331T030000
TZOFFSETFROM:+0100
TZOFFSETTO:+0200
TZNAME:CEST
END:DAYLIGHT
END:VTIMEZONE
END:VCALENDAR