BEGIN:VCALENDAR
VERSION:2.0
PRODID:-//wp-events-plugin.com//7.2.3.1//EN
TZID:Europe/Berlin
X-WR-TIMEZONE:Europe/Berlin
BEGIN:VEVENT
UID:4638@pulsleipzig.de
DTSTART;TZID=Europe/Berlin:20250403T200000
DTEND;TZID=Europe/Berlin:20250403T220000
DTSTAMP:20250329T192310Z
URL:https://pulsleipzig.de/events/irish-spring-festival-of-irish-folk-musi
 c-2025-werk-2/
SUMMARY:Irish Spring - Festival of Irish Folk Music 2025: Werk 2
DESCRIPTION:​Begebt euch auf eine musikalische Reise nach Irland beim Iri
 sh Spring Festival 2025 im WERK 2 in Leipzig! Erlebt die Vielfalt der grü
 nen Insel mit dem nordirischen Singer/Songwriter-Duo Fil Campbell &amp\; T
 om McFarland\, der energiegeladenen Glasgower Band 4 Man Job und der beein
 druckenden Formation Cuas\, die die Musiktradition West Kerrys zelebriert.
  Für das tänzerische Highlight sorgt die preisgekrönte Lenka Fairy mit 
 ihrem mitreißenden Irish Dance.\n\nTickets gibt's hier.
ATTACH;FMTTYPE=image/jpeg:https://pulsleipzig.de/wp-content/uploads/2024/1
 0/Werk-2.jpg
CATEGORIES:Musik
END:VEVENT
BEGIN:VTIMEZONE
TZID:Europe/Berlin
X-LIC-LOCATION:Europe/Berlin
BEGIN:DAYLIGHT
DTSTART:20250330T030000
TZOFFSETFROM:+0100
TZOFFSETTO:+0200
TZNAME:CEST
END:DAYLIGHT
END:VTIMEZONE
END:VCALENDAR