BEGIN:VCALENDAR
VERSION:2.0
PRODID:-//wp-events-plugin.com//7.2.3.1//EN
TZID:Europe/Berlin
X-WR-TIMEZONE:Europe/Berlin
BEGIN:VEVENT
UID:8738@pulsleipzig.de
DTSTART;TZID=Europe/Berlin:20260212T193000
DTEND;TZID=Europe/Berlin:20260212T213000
DTSTAMP:20260210T074316Z
URL:https://pulsleipzig.de/events/jambojam-comedy-open-mic-im-jamboree-12-
 2-2026/
SUMMARY:JamboJam Comedy - Open Mic im Jamboree
DESCRIPTION:Neue Jokes treffen Wohnzimmergefühl im Jamboree in Leipzig Zen
 trum West\, die JamboJam Comedy Open Mic Bühne gehört Newcomer:innen und
  Pros. Spontane Crowd-Momente\, freie Platzwahl und Drinks aus der Bar mac
 hen den Abend leicht und laut. Eintritt läuft spendenbasiert\, reserviert
  euch früh euren Spot und genießt Stand-up in Leipzig.\n\nHier erfahrt i
 hr mehr.
ATTACH;FMTTYPE=image/jpeg:https://pulsleipzig.de/wp-content/uploads/2022/0
 5/Jamboree-Freisitz-scaled-e1652343355758.jpg
CATEGORIES:Kunst &amp; Kreatives
LOCATION:https://maps.app.goo.gl/6Sa9ziz1Yv45FhDK9
END:VEVENT
BEGIN:VTIMEZONE
TZID:Europe/Berlin
X-LIC-LOCATION:Europe/Berlin
BEGIN:STANDARD
DTSTART:20251026T020000
TZOFFSETFROM:+0200
TZOFFSETTO:+0100
TZNAME:CET
END:STANDARD
END:VTIMEZONE
END:VCALENDAR