BEGIN:VCALENDAR
VERSION:2.0
PRODID:-//wp-events-plugin.com//7.2.3.1//EN
TZID:Europe/Berlin
X-WR-TIMEZONE:Europe/Berlin
BEGIN:VEVENT
UID:4774@pulsleipzig.de
DTSTART;TZID=Europe/Berlin:20250419T150000
DTEND;TZID=Europe/Berlin:20250419T170000
DTSTAMP:20250409T145938Z
URL:https://pulsleipzig.de/events/jan-henry-haus-auensee/
SUMMARY:Jan & Henry: Haus Auensee
DESCRIPTION:Jan &amp\; Henry\, die beliebten Erdmännchen aus dem KIKA-Prog
 ramm\, kommen mit ihrer mitreißenden Bühnenshow ins Haus Auensee in Leip
 zig. Bekannt aus ARD und ZDF\, entführen sie Groß und Klein in ein inter
 aktives Abenteuer voller Musik\, Spaß und Überraschungen.\n\nHier erfahr
 t ihr mehr.
ATTACH;FMTTYPE=image/jpeg:https://pulsleipzig.de/wp-content/uploads/2024/1
 0/Taeubchenthal-Konzert.jpg
CATEGORIES:Kunst &amp; Kreatives
END:VEVENT
BEGIN:VTIMEZONE
TZID:Europe/Berlin
X-LIC-LOCATION:Europe/Berlin
BEGIN:DAYLIGHT
DTSTART:20250330T030000
TZOFFSETFROM:+0100
TZOFFSETTO:+0200
TZNAME:CEST
END:DAYLIGHT
END:VTIMEZONE
END:VCALENDAR