BEGIN:VCALENDAR
VERSION:2.0
PRODID:-//wp-events-plugin.com//7.2.3.1//EN
TZID:Europe/Berlin
X-WR-TIMEZONE:Europe/Berlin
BEGIN:VEVENT
UID:8994@pulsleipzig.de
DTSTART;TZID=Europe/Berlin:20260418T200000
DTEND;TZID=Europe/Berlin:20260418T220000
DTSTAMP:20260304T083904Z
URL:https://pulsleipzig.de/events/kabarett-rock-n-roll/
SUMMARY:Kabarett & Rock 'n' Roll
DESCRIPTION:Rainer Koschorz präsentiert als musikalische Hommage an Buddy 
 Holly ein zweistündiges Bühnenprogramm (inklusive Pause). Gemeinsam mit 
 Melanie Koschorz\, ehemals Mitglied des Berliner Kabaretts Die Stachelschw
 eine\, verbindet er Rock’n’Roll-Musik mit kabarettistischen Beiträgen
 .\nDas Programm kombiniert musikalische Elemente mit Monologen und Dialoge
 n und greift neben der Zeitreise in die Ära des Rock’n’Roll auch Them
 en des aktuellen Zeitgeschehens auf. Zum Einsatz kommen unter anderem Gesa
 ng\, Gitarre\, Keyboard und szenische Darstellungen.\nTickets gibt's für 
 25€ in der Gaststätte Seilbahn.\n\nMehr Infos gibt es hier.
ATTACH;FMTTYPE=image/jpeg:https://pulsleipzig.de/wp-content/uploads/2026/0
 3/Kabarett-Rock-n-Roll.jpg
CATEGORIES:Freizeit
END:VEVENT
BEGIN:VTIMEZONE
TZID:Europe/Berlin
X-LIC-LOCATION:Europe/Berlin
BEGIN:DAYLIGHT
DTSTART:20260329T030000
TZOFFSETFROM:+0100
TZOFFSETTO:+0200
TZNAME:CEST
END:DAYLIGHT
END:VTIMEZONE
END:VCALENDAR