BEGIN:VCALENDAR
VERSION:2.0
PRODID:-//wp-events-plugin.com//7.2.3.1//EN
TZID:Europe/Berlin
X-WR-TIMEZONE:Europe/Berlin
BEGIN:VEVENT
UID:4826@pulsleipzig.de
DTSTART;TZID=Europe/Berlin:20250414T180000
DTEND;TZID=Europe/Berlin:20250414T200000
DTSTAMP:20250412T060239Z
URL:https://pulsleipzig.de/events/kids-custom-sneaker-workshop-smeewearkst
 att-14-4-2025/
SUMMARY:KIDS Custom Sneaker Workshop: Smeewearkstatt
DESCRIPTION:Im Kids Custom Sneaker Workshop für Kinder von 8 bis 12 Jahren
  könnt ihr eure eigenen Sneaker zu coolen Unikaten machen! Bringt einfach
  saubere\, weiße oder schwarze Schuhe mit und lasst euch zeigen\, wie ihr
  mit verschiedenen Techniken richtig kreativ werdet. Aber seid schnell\, e
 s gibt nur 10 Plätze!\n\nHier erfahrt ihr mehr.
ATTACH;FMTTYPE=image/jpeg:https://pulsleipzig.de/wp-content/uploads/2025/0
 4/Smee-Sneakers.jpg
CATEGORIES:Freizeit
LOCATION:https://maps.app.goo.gl/jPCB6BEBMCDZCTfZ9
END:VEVENT
BEGIN:VTIMEZONE
TZID:Europe/Berlin
X-LIC-LOCATION:Europe/Berlin
BEGIN:DAYLIGHT
DTSTART:20250330T030000
TZOFFSETFROM:+0100
TZOFFSETTO:+0200
TZNAME:CEST
END:DAYLIGHT
END:VTIMEZONE
END:VCALENDAR