BEGIN:VCALENDAR
VERSION:2.0
PRODID:-//wp-events-plugin.com//7.2.3.1//EN
TZID:Europe/Berlin
X-WR-TIMEZONE:Europe/Berlin
BEGIN:VEVENT
UID:1875@pulsleipzig.de
DTSTART;TZID=Europe/Berlin:20240928T130000
DTEND;TZID=Europe/Berlin:20240928T190000
DTSTAMP:20240924T122256Z
URL:https://pulsleipzig.de/events/kiezfest-flohmarkt/
SUMMARY:Kiezfest Flohmarkt
DESCRIPTION:Hier erwartet euch ein Flohmarkt auf dem Kiezfest im Leipziger 
 Osten. Ihr könnt natürlich bei der großen Auswahl alles erwerben\, was 
 die Händler:Innen euch so anbieten. Geplant wird mit 30 großen und 20 kl
 einen Ständen.\n\nHier erfährst du mehr.\n\nFoto: @annabellesagt
ATTACH;FMTTYPE=image/jpeg:https://pulsleipzig.de/wp-content/uploads/2024/0
 7/Kune-Freisitz.jpg
CATEGORIES:Freizeit
LOCATION:https://cafekune.de/
END:VEVENT
BEGIN:VTIMEZONE
TZID:Europe/Berlin
X-LIC-LOCATION:Europe/Berlin
BEGIN:DAYLIGHT
DTSTART:20240331T030000
TZOFFSETFROM:+0100
TZOFFSETTO:+0200
TZNAME:CEST
END:DAYLIGHT
END:VTIMEZONE
END:VCALENDAR