BEGIN:VCALENDAR
VERSION:2.0
PRODID:-//wp-events-plugin.com//7.2.3.1//EN
TZID:Europe/Berlin
X-WR-TIMEZONE:Europe/Berlin
BEGIN:VEVENT
UID:2298@pulsleipzig.de
DTSTART;TZID=Europe/Berlin:20241102T100000
DTEND;TZID=Europe/Berlin:20241102T160000
DTSTAMP:20241101T073149Z
URL:https://pulsleipzig.de/events/kiezflohmarkt-baba-cafe/
SUMMARY:Kiezflohmarkt BABA Café
DESCRIPTION:Der Kiezflohmarkt im Baba Cafe findet drinnen und draußen stat
 t. Eine Anmeldung für einen Stand könnt ihr entweder  per Mail oder dir
 ekt im Cafe abgeben. Es findet übrigens im Raum vom “Hinz und Kunz” s
 tatt.\n\nHier erfährst du mehr.
ATTACH;FMTTYPE=image/jpeg:https://pulsleipzig.de/wp-content/uploads/2024/1
 0/BABA_Handmade-Flohmarkt.jpg
CATEGORIES:Freizeit
LOCATION:https://www.instagram.com/babahandmadecafe/?locale=%E6%89%BE%E4%BA
 %BA%E5%8A%9E%E5%81%87%E5%8F%B0%E6%B9%BE%E9%A3%9F%E5%93%81%E6%B5%81%E9%80%9
 A%E8%AE%B8%E5%8F%AF%E8%AF%81%E3%80%96%E8%81%94%E7%B3%BB%E5%A8%81%E4%BF%A1%
 2BTG%2F%E9%A3%9E%E6%9C%BA%3A%40buth2788%E3%80%97D0bIivPtNr&hl=af
END:VEVENT
BEGIN:VTIMEZONE
TZID:Europe/Berlin
X-LIC-LOCATION:Europe/Berlin
BEGIN:STANDARD
DTSTART:20241027T020000
TZOFFSETFROM:+0200
TZOFFSETTO:+0100
TZNAME:CET
END:STANDARD
END:VTIMEZONE
END:VCALENDAR