BEGIN:VCALENDAR
VERSION:2.0
PRODID:-//wp-events-plugin.com//7.2.3.1//EN
TZID:Europe/Berlin
X-WR-TIMEZONE:Europe/Berlin
BEGIN:VEVENT
UID:9422@pulsleipzig.de
DTSTART;TZID=Europe/Berlin:20260419T130000
DTEND;TZID=Europe/Berlin:20260419T170000
DTSTAMP:20260414T154709Z
URL:https://pulsleipzig.de/events/kinderflohmarkt-der-nasch-demmeringstras
 se-27/
SUMMARY:Kinderflohmarkt der NASCH: Demmeringstraße 27
DESCRIPTION:Der Kinderflohmarkt der NASCH Leipzig lädt zum entspannten Son
 ntagsstöbern ein. Von Kleidung über Spielzeug bis zu Büchern wartet all
 es rund ums Kind auf neue Besitzer:innen.\n Ein Treffpunkt für Familien\,
  Nachbarschaft und nachhaltiges Einkaufen.\n Hier wechseln Lieblingsstück
 e unkompliziert den Besitzer.\n Perfekt für einen gemütlichen Familienna
 chmittag.\n Stöbern\, tauschen und neue Schätze entdecken.
ATTACH;FMTTYPE=image/jpeg:https://pulsleipzig.de/wp-content/uploads/2024/1
 0/Alles-LEGO.jpg
CATEGORIES:Freizeit
LOCATION:https://maps.app.goo.gl/FPsjfEcvGWUFDYJc8
END:VEVENT
BEGIN:VTIMEZONE
TZID:Europe/Berlin
X-LIC-LOCATION:Europe/Berlin
BEGIN:DAYLIGHT
DTSTART:20260329T030000
TZOFFSETFROM:+0100
TZOFFSETTO:+0200
TZNAME:CEST
END:DAYLIGHT
END:VTIMEZONE
END:VCALENDAR