BEGIN:VCALENDAR
VERSION:2.0
PRODID:-//wp-events-plugin.com//7.2.3.1//EN
TZID:Europe/Berlin
X-WR-TIMEZONE:Europe/Berlin
BEGIN:VEVENT
UID:8730@pulsleipzig.de
DTSTART;TZID=Europe/Berlin:20260315T140000
DTEND;TZID=Europe/Berlin:20260315T170000
DTSTAMP:20260209T150007Z
URL:https://pulsleipzig.de/events/kinderflohmarkt-halle-5-e-v-15-3-2026/
SUMMARY:Kinderflohmarkt: HALLE 5 e.V.
DESCRIPTION:Zwei Etagen voller kleiner Schätze warten beim Kinderflohmarkt
  von 14 bis 17 Uhr bei HALLE 5 e. V. auf euch. Kinder und Familien stöber
 n in Leipzig Connewitz durch Kleidung\, Spiele und Bücher. Kaffee und Kuc
 hen sorgen für eine entspannte Runde zwischen Secondhand und Nachhaltigke
 it. Ideal\, wenn ihr bewusst einkaufen und nebenbei die Nachbarschaft tref
 fen wollt.\n\nHier erfahrt ihr mehr.
ATTACH;FMTTYPE=image/jpeg:https://pulsleipzig.de/wp-content/uploads/2025/0
 5/Flohmarkt-Halle-5.jpg
CATEGORIES:Freizeit
LOCATION:https://maps.app.goo.gl/um4r7919CJeZrnT57
END:VEVENT
BEGIN:VTIMEZONE
TZID:Europe/Berlin
X-LIC-LOCATION:Europe/Berlin
BEGIN:STANDARD
DTSTART:20251026T020000
TZOFFSETFROM:+0200
TZOFFSETTO:+0100
TZNAME:CET
END:STANDARD
END:VTIMEZONE
END:VCALENDAR