BEGIN:VCALENDAR
VERSION:2.0
PRODID:-//wp-events-plugin.com//7.2.3.1//EN
TZID:Europe/Berlin
X-WR-TIMEZONE:Europe/Berlin
BEGIN:VEVENT
UID:3897@pulsleipzig.de
DTSTART;TZID=Europe/Berlin:20250330T093000
DTEND;TZID=Europe/Berlin:20250330T123000
DTSTAMP:20250208T123924Z
URL:https://pulsleipzig.de/events/kinderflohmarkt-kawi-kids-30-3-2025/
SUMMARY:Kinderflohmarkt: Kawi Kids
DESCRIPTION:Alles rund ums Kind. Der beliebte Indoor-Flohmarkt für Baby- u
 nd Kinderzeugs findet wieder wie gewohnt statt. Preisgünstig könnt hier 
 alle Sachen "rund ums Kind" erworben werden\, egal ob Kleidung (Gr. 50-188
 )\, Spielzeug\, Bücher\, Fahrzeuge\, Kinderwagen\, Kindersitze\, Schwange
 rschaftsbekleidung\, Kleinmöbel oder Erstlingsausstattung.\n\nHier erfäh
 rt ihr mehr.
CATEGORIES:Freizeit
END:VEVENT
BEGIN:VTIMEZONE
TZID:Europe/Berlin
X-LIC-LOCATION:Europe/Berlin
BEGIN:DAYLIGHT
DTSTART:20250330T030000
TZOFFSETFROM:+0100
TZOFFSETTO:+0200
TZNAME:CEST
END:DAYLIGHT
END:VTIMEZONE
END:VCALENDAR