BEGIN:VCALENDAR
VERSION:2.0
PRODID:-//wp-events-plugin.com//7.2.3.1//EN
TZID:Europe/Berlin
X-WR-TIMEZONE:Europe/Berlin
BEGIN:VEVENT
UID:9378@pulsleipzig.de
DTSTART;TZID=Europe/Berlin:20260418T090000
DTEND;TZID=Europe/Berlin:20260418T140000
DTSTAMP:20260408T184419Z
URL:https://pulsleipzig.de/events/kindersachenboerse-flohmarkt-am-globus/
SUMMARY:Kindersachenbörse & Flohmarkt am GLOBUS Markkleeberg-Wachau
DESCRIPTION:Am GLOBUS Leipzig erwartet Familien regelmäßig ein Flohmarkt 
 speziell für Babys\, Kinder und werdende Eltern.Von 9 bis 14 Uhr kann nac
 h günstigen Second-Hand-Schätzen rund um Schwangerschaft\, Baby und Kind
  gestöbert werden.Die monatliche Kindersachenbörse kombiniert Flohmarkt-
 Atmosphäre mit familienfreundlichem Angebot und freiem Eintritt.Auch Verk
 äufer:innen sind willkommen – Aufbau ab 7 Uhr\, Standgebühr 8 € pro 
 Meter.Ein perfekter Treffpunkt für nachhaltiges Shoppen und Sparen im Fam
 ilienalltag.\n\nHier erfahrt ihr mehr.
ATTACH;FMTTYPE=image/jpeg:https://pulsleipzig.de/wp-content/uploads/2026/0
 4/Kindersachenboerse-Globus.jpg
CATEGORIES:Freizeit
LOCATION:https://maps.app.goo.gl/pkgPBPNoS9ZLFZ5W9
END:VEVENT
BEGIN:VTIMEZONE
TZID:Europe/Berlin
X-LIC-LOCATION:Europe/Berlin
BEGIN:DAYLIGHT
DTSTART:20260329T030000
TZOFFSETFROM:+0100
TZOFFSETTO:+0200
TZNAME:CEST
END:DAYLIGHT
END:VTIMEZONE
END:VCALENDAR