BEGIN:VCALENDAR
VERSION:2.0
PRODID:-//wp-events-plugin.com//7.2.3.1//EN
TZID:Europe/Berlin
X-WR-TIMEZONE:Europe/Berlin
BEGIN:VEVENT
UID:4910@pulsleipzig.de
DTSTART;TZID=Europe/Berlin:20250426T140000
DTEND;TZID=Europe/Berlin:20250426T170000
DTSTAMP:20250415T063104Z
URL:https://pulsleipzig.de/events/kindersachenflohmarkt-der-baptistengemei
 nde/
SUMMARY:Kindersachenflohmarkt der Baptistengemeinde
DESCRIPTION:Zeit zum Stöbern\, Staunen und Schnäppchenjagen! Beim Kinders
 achenflohmarkt von 14 bis 17 Uhr in der Baptisten Gemeinde Leipzig auf der
  Bernhard-Göring-Straße wartet ein Paradies für kleine (und große) Sch
 atzsucher auf euch – mit Kleidung\, Spielsachen und jeder Menge Secondha
 nd-Lieblinge. Kommt vorbei\, stöbert euch durch und findet neue Lieblings
 stücke für eure Kids!\n\nHier erfahrt ihr mehr.
ATTACH;FMTTYPE=image/jpeg:https://pulsleipzig.de/wp-content/uploads/2024/0
 7/Cafe-Trago-Flohmarkt.jpg
CATEGORIES:Freizeit
LOCATION:https://maps.app.goo.gl/4aVuGR2DKHqqh7ni8
END:VEVENT
BEGIN:VTIMEZONE
TZID:Europe/Berlin
X-LIC-LOCATION:Europe/Berlin
BEGIN:DAYLIGHT
DTSTART:20250330T030000
TZOFFSETFROM:+0100
TZOFFSETTO:+0200
TZNAME:CEST
END:DAYLIGHT
END:VTIMEZONE
END:VCALENDAR