BEGIN:VCALENDAR
VERSION:2.0
PRODID:-//wp-events-plugin.com//7.2.3.1//EN
TZID:Europe/Berlin
X-WR-TIMEZONE:Europe/Berlin
BEGIN:VEVENT
UID:5268@pulsleipzig.de
DTSTART;TZID=Europe/Berlin:20250601T100000
DTEND;TZID=Europe/Berlin:20250601T160000
DTSTAMP:20250528T072426Z
URL:https://pulsleipzig.de/events/kindertags-brunch-naumanns/
SUMMARY:Kindertags Brunch: Naumanns
DESCRIPTION:Zum Kindertag lädt das Naumanns zum entspannten Sonntagsbrunch
  ein – mit süßen und herzhaften Leckereien für die ganze Familie. Kin
 der bis 10 Jahre brunchen kostenlos\, Jugendliche bis 16 zahlen die Hälft
 e. Ideal für einen gemütlichen Start in den Tag – mit Überraschungen 
 aus der Küche und entspannter Atmosphäre.\n\nHier erfahrt ihr mehr.
ATTACH;FMTTYPE=image/jpeg:https://pulsleipzig.de/wp-content/uploads/2025/0
 5/Naumanns.jpg
CATEGORIES:Freizeit
END:VEVENT
BEGIN:VTIMEZONE
TZID:Europe/Berlin
X-LIC-LOCATION:Europe/Berlin
BEGIN:DAYLIGHT
DTSTART:20250330T030000
TZOFFSETFROM:+0100
TZOFFSETTO:+0200
TZNAME:CEST
END:DAYLIGHT
END:VTIMEZONE
END:VCALENDAR