BEGIN:VCALENDAR
VERSION:2.0
PRODID:-//wp-events-plugin.com//7.2.3.1//EN
TZID:Europe/Berlin
X-WR-TIMEZONE:Europe/Berlin
BEGIN:VEVENT
UID:9396@pulsleipzig.de
DTSTART;TZID=Europe/Berlin:20260510T120000
DTEND;TZID=Europe/Berlin:20260510T180000
DTSTAMP:20260413T192356Z
URL:https://pulsleipzig.de/events/kunstmarkt-garage-ost-10-5-2026/
SUMMARY:Kunstmarkt: Garage Ost
DESCRIPTION:Schaut vorbei und entdeckt Neues aus der Kunstwelt\, Künstler:
 innen präsentieren und verkaufen ihre Werke. Von 12 bis 18 Uhr geht's los
  in der Garage Ost und natürlich wird auch für das leibliche Wohl besten
 s gesorgt sein. Die Standgebühr beträgt 12 € und wenn ihr einen Tisch 
 dazu mieten möchtet\, kommen nochmal 6 € drauf.\n\nHier erfahrt ihr meh
 r.
ATTACH;FMTTYPE=image/jpeg:https://pulsleipzig.de/wp-content/uploads/2024/1
 1/Garage-Ost-Kunstmarkt.jpg
CATEGORIES:Kunst &amp; Kreatives
END:VEVENT
BEGIN:VTIMEZONE
TZID:Europe/Berlin
X-LIC-LOCATION:Europe/Berlin
BEGIN:DAYLIGHT
DTSTART:20260329T030000
TZOFFSETFROM:+0100
TZOFFSETTO:+0200
TZNAME:CEST
END:DAYLIGHT
END:VTIMEZONE
END:VCALENDAR