BEGIN:VCALENDAR
VERSION:2.0
PRODID:-//wp-events-plugin.com//7.2.3.1//EN
TZID:Europe/Berlin
X-WR-TIMEZONE:Europe/Berlin
BEGIN:VEVENT
UID:8895@pulsleipzig.de
DTSTART;TZID=Europe/Berlin:20260324T200000
DTEND;TZID=Europe/Berlin:20260324T220000
DTSTAMP:20260302T072751Z
URL:https://pulsleipzig.de/events/lin-moritzbastei/
SUMMARY:Lin: Moritzbastei
DESCRIPTION:Lin steht für modernen Indie-Pop mit ehrlichen Texten und klar
 er Klangästhetik. Zwischen ruhigen Momenten und kraftvollen Arrangements 
 entsteht ein intensiver Konzertabend. Die besondere Clubatmosphäre der Mo
 ritzbastei sorgt für Nähe zwischen Artist und Publikum.\n\nHier erfahrt 
 ihr mehr.
ATTACH;FMTTYPE=image/jpeg:https://pulsleipzig.de/wp-content/uploads/2025/0
 4/Moritzbastei-Abend-draussen.jpg
CATEGORIES:Musik
END:VEVENT
BEGIN:VTIMEZONE
TZID:Europe/Berlin
X-LIC-LOCATION:Europe/Berlin
BEGIN:STANDARD
DTSTART:20251026T020000
TZOFFSETFROM:+0200
TZOFFSETTO:+0100
TZNAME:CET
END:STANDARD
END:VTIMEZONE
END:VCALENDAR