BEGIN:VCALENDAR
VERSION:2.0
PRODID:-//wp-events-plugin.com//7.2.3.1//EN
TZID:Europe/Berlin
X-WR-TIMEZONE:Europe/Berlin
BEGIN:VEVENT
UID:9392@pulsleipzig.de
DTSTART;TZID=Europe/Berlin:20260417T200000
DTEND;TZID=Europe/Berlin:20260417T235900
DTSTAMP:20260413T191624Z
URL:https://pulsleipzig.de/events/luis-la-metta-karaokenight-garage-ost-17
 -4-2026/
SUMMARY:Luis La Metta Karaokenight Garage Ost
DESCRIPTION:Mikro schnappen und Bühne frei: In der Garage Ost lädt Luis L
 a Metta am Freitag ab 20 Uhr zur Karaokenight. Ob Popklassiker\, Indie-Hit
  oder Guilty Pleasure – hier darf jeder zum Star des Abends werden. Die 
 Mischung aus Party\, Live‑Performance und spontanen Gesangseinlagen sorg
 t für beste Stimmung. Wer selbst nicht singen möchte\, feuert einfach vo
 m Publikum aus an. Perfekt für einen ausgelassenen Start ins Wochenende.\
 n\nHier erfahrt ihr mehr.
ATTACH;FMTTYPE=image/jpeg:https://pulsleipzig.de/wp-content/uploads/2023/0
 9/Garage-Ost.jpg
CATEGORIES:Musik
END:VEVENT
BEGIN:VTIMEZONE
TZID:Europe/Berlin
X-LIC-LOCATION:Europe/Berlin
BEGIN:DAYLIGHT
DTSTART:20260329T030000
TZOFFSETFROM:+0100
TZOFFSETTO:+0200
TZNAME:CEST
END:DAYLIGHT
END:VTIMEZONE
END:VCALENDAR