BEGIN:VCALENDAR
VERSION:2.0
PRODID:-//wp-events-plugin.com//7.2.3.1//EN
TZID:Europe/Berlin
X-WR-TIMEZONE:Europe/Berlin
BEGIN:VEVENT
UID:3647@pulsleipzig.de
DTSTART;TZID=Europe/Berlin:20250131T200000
DTEND;TZID=Europe/Berlin:20250131T230000
DTSTAMP:20250117T155841Z
URL:https://pulsleipzig.de/events/matching-night-kleine-traeumerei/
SUMMARY:Matching Night: Kleine Träumerei
DESCRIPTION:Warum immer nur auf Dating-Apps hängen\, wenn man auch im echt
 en Leben Leute treffen kann. Bei der Matching Night triffst du bis zu 200 
 Singles in einer entspannten Bar Atmosphäre.\n\nHier erfährst du mehr.
ATTACH;FMTTYPE=image/jpeg:https://pulsleipzig.de/wp-content/uploads/2025/0
 1/Date-Night.jpg
CATEGORIES:Freizeit
END:VEVENT
BEGIN:VTIMEZONE
TZID:Europe/Berlin
X-LIC-LOCATION:Europe/Berlin
BEGIN:STANDARD
DTSTART:20241027T020000
TZOFFSETFROM:+0200
TZOFFSETTO:+0100
TZNAME:CET
END:STANDARD
END:VTIMEZONE
END:VCALENDAR