BEGIN:VCALENDAR
VERSION:2.0
PRODID:-//wp-events-plugin.com//7.2.3.1//EN
TZID:Europe/Berlin
X-WR-TIMEZONE:Europe/Berlin
BEGIN:VEVENT
UID:4378@pulsleipzig.de
DTSTART;TZID=Europe/Berlin:20250322T100000
DTEND;TZID=Europe/Berlin:20250322T160000
DTSTAMP:20250310T200653Z
URL:https://pulsleipzig.de/events/motel-a-miio-pop-up-pittlerwerke-22-3-20
 25/
SUMMARY:Motel a Miio Pop Up: Pittlerwerke
DESCRIPTION:Entdeckt beim Motel a Miio Pop-Up in den Pittlerwerken Leipzig 
 nachhaltige\, handgefertigte Keramik aus Portugal! Jedes Stück ist ein Un
 ikat\, oft von Hand bemalt oder glasiert – ideal für euer Zuhause. Sich
 ert euch 30–70 % Rabatt auf die Kollektion. Besucht das Paradies für Ke
 ramik-Liebhaber*innen am Freitag von 10:00–19:00 sowie Samstag von 10:00
 –16:00 und findet alles von sanften Pastelltönen bis zu leuchtenden Far
 ben – die perfekte Ergänzung für eure Einrichtung!\n\nHier erfahrt ihr
  mehr.
ATTACH;FMTTYPE=image/jpeg:https://pulsleipzig.de/wp-content/uploads/2023/1
 1/Pittlerwerke-Freisitz.jpg
CATEGORIES:Freizeit
END:VEVENT
BEGIN:VTIMEZONE
TZID:Europe/Berlin
X-LIC-LOCATION:Europe/Berlin
BEGIN:STANDARD
DTSTART:20241027T020000
TZOFFSETFROM:+0200
TZOFFSETTO:+0100
TZNAME:CET
END:STANDARD
END:VTIMEZONE
END:VCALENDAR