BEGIN:VCALENDAR
VERSION:2.0
PRODID:-//wp-events-plugin.com//7.2.3.1//EN
TZID:Europe/Berlin
X-WR-TIMEZONE:Europe/Berlin
BEGIN:VEVENT
UID:8797@pulsleipzig.de
DTSTART;TZID=Europe/Berlin:20260317T180000
DTEND;TZID=Europe/Berlin:20260317T220000
DTSTAMP:20260225T153637Z
URL:https://pulsleipzig.de/events/omad-poege-haus-17-3-2026/
SUMMARY:OMAD: Pöge-Haus
DESCRIPTION:Kunst-Break am Dienstagabend: Das Pöge-Haus lädt am 16.12. wi
 eder zur beliebten OMAD-Session ein. Bringt eure eigenen Kunstwerke\, Text
 e oder Performance-Ideen mit oder lasst euch einfach von der Kreativität 
 anderer inspirieren – der entspannteste Ort für Kunst und Austausch mit
 ten in der Woche.\n\nHier erfahrt ihr mehr
ATTACH;FMTTYPE=image/jpeg:https://pulsleipzig.de/wp-content/uploads/2025/0
 5/Open-Mic-am-Dienstag.jpg
CATEGORIES:Musik
END:VEVENT
BEGIN:VTIMEZONE
TZID:Europe/Berlin
X-LIC-LOCATION:Europe/Berlin
BEGIN:STANDARD
DTSTART:20251026T020000
TZOFFSETFROM:+0200
TZOFFSETTO:+0100
TZNAME:CET
END:STANDARD
END:VTIMEZONE
END:VCALENDAR