BEGIN:VCALENDAR
VERSION:2.0
PRODID:-//wp-events-plugin.com//7.2.3.1//EN
TZID:Europe/Berlin
X-WR-TIMEZONE:Europe/Berlin
BEGIN:VEVENT
UID:8796@pulsleipzig.de
DTSTART;TZID=Europe/Berlin:20260422T193000
DTEND;TZID=Europe/Berlin:20260422T233000
DTSTAMP:20260225T153324Z
URL:https://pulsleipzig.de/events/open-decks-ilses-erika-22-4-2026/
SUMMARY:Open Decks: Ilses Erika
DESCRIPTION:Ihr wollt selbst hinter die Regler und Leipzig mit euren Liebli
 ngsplatten beschallen? Bei den Open Decks im Ilses Erika bekommt ihr unkom
 pliziert eure halbe Stunde Ruhm auf dem Floor\, ganz ohne Profi-Druck. Con
 newitz liefert dafür die gemütlichste Bühne zwischen Tresen und Tanzfl
 äche.\n\nHier erfahrt ihr mehr.
ATTACH;FMTTYPE=image/jpeg:https://pulsleipzig.de/wp-content/uploads/2026/0
 2/Open-Decks-Ilses-Erika.jpg
CATEGORIES:Musik
END:VEVENT
BEGIN:VTIMEZONE
TZID:Europe/Berlin
X-LIC-LOCATION:Europe/Berlin
BEGIN:DAYLIGHT
DTSTART:20260329T030000
TZOFFSETFROM:+0100
TZOFFSETTO:+0200
TZNAME:CEST
END:DAYLIGHT
END:VTIMEZONE
END:VCALENDAR