BEGIN:VCALENDAR
VERSION:2.0
PRODID:-//wp-events-plugin.com//7.2.3.1//EN
TZID:Europe/Berlin
X-WR-TIMEZONE:Europe/Berlin
BEGIN:VEVENT
UID:3204@pulsleipzig.de
DTSTART;TZID=Europe/Berlin:20250121T200000
DTEND;TZID=Europe/Berlin:20250121T220000
DTSTAMP:20250102T094923Z
URL:https://pulsleipzig.de/events/pablo-tarantino-quartet-horns-erben/
SUMMARY:Pablo Tarantino Quartet: Horns Erben
DESCRIPTION:Ein schönes Jazz Konzert im ruhigen Ambiente erwartet euch heu
 te im Horns Erben. Der Schlagzeuger Pablo Tarantino kommt im Quartett nach
  Leipzig.\n\nHier erfährst du mehr.
ATTACH;FMTTYPE=image/jpeg:https://pulsleipzig.de/wp-content/uploads/2023/1
 0/Horns-Erben.jpg
CATEGORIES:Musik
END:VEVENT
BEGIN:VTIMEZONE
TZID:Europe/Berlin
X-LIC-LOCATION:Europe/Berlin
BEGIN:STANDARD
DTSTART:20241027T020000
TZOFFSETFROM:+0200
TZOFFSETTO:+0100
TZNAME:CET
END:STANDARD
END:VTIMEZONE
END:VCALENDAR