BEGIN:VCALENDAR
VERSION:2.0
PRODID:-//wp-events-plugin.com//7.2.3.1//EN
TZID:Europe/Berlin
X-WR-TIMEZONE:Europe/Berlin
BEGIN:VEVENT
UID:3301@pulsleipzig.de
DTSTART;TZID=Europe/Berlin:20250111T220000
DTEND;TZID=Europe/Berlin:20250111T235900
DTSTAMP:20250105T073216Z
URL:https://pulsleipzig.de/events/queer-nacht-cnnwtz-werk-2/
SUMMARY:Queer Nach(t) CNNWTZ: Werk 2
DESCRIPTION:Die Queer Nach(t) CNNWTZ steht wieder an &amp\; das Werk 2 freu
 t sich\, wieder mit Queers &amp\; Allies zu feiern. Durch die Nacht beglei
 tet euch wieder feinste Hits – von Pop-Klassiker bis zu den heutigen Dan
 ce-Charts-Hits.\n\nHier erfährst du mehr.
ATTACH;FMTTYPE=image/jpeg:https://pulsleipzig.de/wp-content/uploads/2022/0
 9/Werk-2-Innenhof.jpg
CATEGORIES:Musik
END:VEVENT
BEGIN:VTIMEZONE
TZID:Europe/Berlin
X-LIC-LOCATION:Europe/Berlin
BEGIN:STANDARD
DTSTART:20241027T020000
TZOFFSETFROM:+0200
TZOFFSETTO:+0100
TZNAME:CET
END:STANDARD
END:VTIMEZONE
END:VCALENDAR