BEGIN:VCALENDAR
VERSION:2.0
PRODID:-//wp-events-plugin.com//7.2.3.1//EN
TZID:Europe/Berlin
X-WR-TIMEZONE:Europe/Berlin
BEGIN:VEVENT
UID:3667@pulsleipzig.de
DTSTART;TZID=Europe/Berlin:20250121T210000
DTEND;TZID=Europe/Berlin:20250121T230000
DTSTAMP:20250119T082317Z
URL:https://pulsleipzig.de/events/queer-o-ke-nachtcafe-21-2-2025/
SUMMARY:Queer-O-Ke!: Nachtcafé
DESCRIPTION:Freut euch auf einen Abend voller Karaoke mit Jessa Face. Es gi
 bt Hits\, Glitzer und Community Vibes. Ab jetzt jeden Dienstag um 21 Uhr i
 m Nachtcafé.\n\nHier erfährst du mehr.
ATTACH;FMTTYPE=image/jpeg:https://pulsleipzig.de/wp-content/uploads/2024/0
 4/Nachtcafe.jpg
CATEGORIES:Musik
END:VEVENT
BEGIN:VTIMEZONE
TZID:Europe/Berlin
X-LIC-LOCATION:Europe/Berlin
BEGIN:STANDARD
DTSTART:20241027T020000
TZOFFSETFROM:+0200
TZOFFSETTO:+0100
TZNAME:CET
END:STANDARD
END:VTIMEZONE
END:VCALENDAR