BEGIN:VCALENDAR
VERSION:2.0
PRODID:-//wp-events-plugin.com//7.2.3.1//EN
TZID:Europe/Berlin
X-WR-TIMEZONE:Europe/Berlin
BEGIN:VEVENT
UID:4454@pulsleipzig.de
DTSTART;TZID=Europe/Berlin:20250408T210000
DTEND;TZID=Europe/Berlin:20250408T230000
DTSTAMP:20250316T065403Z
URL:https://pulsleipzig.de/events/queer-o-ke-nachtcafe-8-4-2025/
SUMMARY:Queer-O-Ke!: Nachtcafé
DESCRIPTION:Freut euch auf einen Abend voller Karaoke mit Jessa Face. Es gi
 bt Hits\, Glitzer und Community Vibes. Ab jetzt jeden Dienstag um 21 Uhr i
 m Nachtcafé.\n\nHier erfährt ihr mehr.
ATTACH;FMTTYPE=image/jpeg:https://pulsleipzig.de/wp-content/uploads/2024/0
 4/Nachtcafe.jpg
CATEGORIES:Musik
END:VEVENT
BEGIN:VTIMEZONE
TZID:Europe/Berlin
X-LIC-LOCATION:Europe/Berlin
BEGIN:DAYLIGHT
DTSTART:20250330T030000
TZOFFSETFROM:+0100
TZOFFSETTO:+0200
TZNAME:CEST
END:DAYLIGHT
END:VTIMEZONE
END:VCALENDAR