BEGIN:VCALENDAR
VERSION:2.0
PRODID:-//wp-events-plugin.com//7.2.3.1//EN
TZID:Europe/Berlin
X-WR-TIMEZONE:Europe/Berlin
BEGIN:VEVENT
UID:3344@pulsleipzig.de
DTSTART;TZID=Europe/Berlin:20250121T220000
DTEND;TZID=Europe/Berlin:20250121T235900
DTSTAMP:20250107T101312Z
URL:https://pulsleipzig.de/events/queer-slam-werk-2/
SUMMARY:Queer Slam: Werk 2
DESCRIPTION:Der Queer Slam in Leipzig\, der heißbegehrte Poetry Slam für 
 queere Künstler:innen\, startet endlich in das neue Jahr und nachdem die 
 Halle D in der Vergangenheit ausverkauft war\, geht es nun in die Halle A.
 \n\nHier erfährst du mehr.
ATTACH;FMTTYPE=image/jpeg:https://pulsleipzig.de/wp-content/uploads/2022/0
 9/Werk-2-Innenhof.jpg
CATEGORIES:Musik
END:VEVENT
BEGIN:VTIMEZONE
TZID:Europe/Berlin
X-LIC-LOCATION:Europe/Berlin
BEGIN:STANDARD
DTSTART:20241027T020000
TZOFFSETFROM:+0200
TZOFFSETTO:+0100
TZNAME:CET
END:STANDARD
END:VTIMEZONE
END:VCALENDAR