BEGIN:VCALENDAR
VERSION:2.0
PRODID:-//wp-events-plugin.com//7.2.3.1//EN
TZID:Europe/Berlin
X-WR-TIMEZONE:Europe/Berlin
BEGIN:VEVENT
UID:3355@pulsleipzig.de
DTSTART;TZID=Europe/Berlin:20250109T190000
DTEND;TZID=Europe/Berlin:20250109T230000
DTSTAMP:20250108T120139Z
URL:https://pulsleipzig.de/events/queere-filmwoche-ut-connewitz-2/
SUMMARY:Queere Filmwoche: UT Connewitz
DESCRIPTION:Ab 9. Januar findet in unserer schönen Messestadt die Queere F
 ilmwoche 2025 statt. Im UT Connewitz und der Kinobar Prager Frühling kön
 nt ihr bis zum 15. Januar eine vielfältige Auswahl an Filmen und Veransta
 ltungen genießen\, die sich mit queeren Themen und Perspektiven auseinand
 ersetzen. Seit mehreren Jahren bietet das Filmfestival eine Plattform für
  Filme\, die LGBTQIA+-Themen behandeln\, und trägt somit zur Sichtbarkeit
  und Akzeptanz der queeren Community bei. \n\nDie UT Connewitz lädt vom 
 9. bis 15. Januar zur Queeren Filmwoche ein. Im Programm steht: \n\n// Do
  9.1. // 19 Uhr // DIE ÄNGSTLICHE VERKEHRSTEILNEHMERIN\n\n// Do 9.1.// 21
  Uhr // DIE GESCHÜTZTEN MÄNNER\n\n// Fr 10.1.// 19 Uhr // WO/MEN\n\n// F
 r 10.1.// 21 Uhr // THIS IS BALLROOM\n\n// Sa 11.1. // 19 Uhr // Kurzfilmr
 olle: HOME IDENTITIES (5 Filme in 90 Minuten. Alle in OmeU)\n\n// Sa 11.1.
 // 21 Uhr // AVANT DRAG!\n\n// So 12.1. // 14 Uhr // Kinderkino: 20.000 AR
 TEN VON BIENEN\n\n// So 12.1.// 17 Uhr // TANDEM - IN WELCHER SPRACHE TRÄ
 UMST DU?\n\n// So 12.1. // 19 Uhr // Queere Filmwoche\n\n// Mo 13.1. // 19
  Uhr // BALDIGA - ENTSICHERTES HERZ\n\n// Mo 13.1. // 21.30 Uhr // THE VIS
 ITOR\n\n// Di 14.1.// 19 Uhr //Film &amp\; Gespräch ROTE OHREN FETZEN DUR
 CH ASCHE\n\n// Di 14.1. // 21.30 Uhr // FRESH KILL\n\n// Mi 15.1.// 19 Uhr
  // SMOKE SAUNA SISTERHOOD\n\n// Mi 15.1.// 21 Uhr // DIE GESCHÜTZTEN MÄ
 NNER\n\nHier erfährst du mehr.
ATTACH;FMTTYPE=image/jpeg:https://pulsleipzig.de/wp-content/uploads/2023/0
 3/UT-Connewitz-Bar.jpg
CATEGORIES:Kunst &amp; Kreatives
END:VEVENT
BEGIN:VTIMEZONE
TZID:Europe/Berlin
X-LIC-LOCATION:Europe/Berlin
BEGIN:STANDARD
DTSTART:20241027T020000
TZOFFSETFROM:+0200
TZOFFSETTO:+0100
TZNAME:CET
END:STANDARD
END:VTIMEZONE
END:VCALENDAR