BEGIN:VCALENDAR
VERSION:2.0
PRODID:-//wp-events-plugin.com//7.2.3.1//EN
TZID:Europe/Berlin
X-WR-TIMEZONE:Europe/Berlin
BEGIN:VEVENT
UID:4269@pulsleipzig.de
DTSTART;TZID=Europe/Berlin:20250314T190000
DTEND;TZID=Europe/Berlin:20250314T210000
DTSTAMP:20250304T065006Z
URL:https://pulsleipzig.de/events/raum27-felsenkeller/
SUMMARY:RAUM27: Felsenkeller
DESCRIPTION:RAUM27 bringt ihren krassen Mix aus tiefgründigen Texten\, mit
 reißenden Melodien und Moshpit-Potenzial in den Felsenkeller Leipzig! Nac
 h ausverkauften Touren und Festivals gibt’s jetzt die nächste Dosis pur
 e Energie. Seid dabei\, wenn die Bühne bebt!\n\nTickets gibt's hier.
ATTACH;FMTTYPE=image/jpeg:https://pulsleipzig.de/wp-content/uploads/2023/0
 3/Felsenkeller.jpg
CATEGORIES:Musik
END:VEVENT
BEGIN:VTIMEZONE
TZID:Europe/Berlin
X-LIC-LOCATION:Europe/Berlin
BEGIN:STANDARD
DTSTART:20241027T020000
TZOFFSETFROM:+0200
TZOFFSETTO:+0100
TZNAME:CET
END:STANDARD
END:VTIMEZONE
END:VCALENDAR